BEGIN:VCALENDAR
VERSION:2.0
PRODID:http://www.infomax-online.de/imxeventmanager/
METHOD:PUBLISH
BEGIN:VTIMEZONE
TZID:Europe/Berlin
TZURL:http://tzurl.org/zoneinfo-outlook/Europe/Berlin
X-LIC-LOCATION:Europe/Berlin
END:VTIMEZONE
BEGIN:VEVENT
UID:69ecf5f239031
LOCATION:Am Markt 14, 19055 Schwerin
SUMMARY;ENCODING=QUOTED-PRINTABLE:Tour with the night watchman of Schwerin
DESCRIPTION;ENCODING=QUOTED-PRINTABLE:Tour with the night watchman through the historic old town. Armed with=0D=0Aa halberd, illuminated with a lantern, peppered with witty anecdotes -=0D=0Athis is how Schwerin at night presents itself.=0D=0A=0D=0ATour with the night watchman through the historic old town. Armed with=0D=0Aa halberd, illuminated with a lantern, peppered with witty anecdotes -=0D=0Athis is how he walks with you through Schwerin at night.=0D=0A=0D=0AMeeting point: Tourist information at the market=0D=0ADuration: approx. 1.5 hours=0D=0A=0D=0APrice: € 12,00 per person=0D=0A=0D=0ATickets are available online, at the Tourist Information or directly=0D=0Afrom the night watchman.=0D=0A=0D=0A =0D=0A
URL;VALUE=URI:https://hamburgwhl.infomaxnet.de/standard_widget_en/en/e-rundgang-mit-dem-nachtwaechter-von-schwerin?eventDateId=29857249&widgetToken=22vcqFKw4GE.&
CLASS:PUBLIC
DTSTART:20260425T203000
DTSTAMP:20260425T191218
END:VEVENT
END:VCALENDAR