BEGIN:VCALENDAR
VERSION:2.0
PRODID:http://www.infomax-online.de/imxeventmanager/
METHOD:PUBLISH
BEGIN:VTIMEZONE
TZID:Europe/Berlin
TZURL:http://tzurl.org/zoneinfo-outlook/Europe/Berlin
X-LIC-LOCATION:Europe/Berlin
END:VTIMEZONE
BEGIN:VEVENT
UID:69e90e0fe7603
LOCATION:Jarrestraße 20, 22303 Hamburg
SUMMARY;ENCODING=QUOTED-PRINTABLE:Community Bathing x Intersectional Discourse
DESCRIPTION;ENCODING=QUOTED-PRINTABLE:Community Bathing x Intersectional Discourse=0D=0A
URL;VALUE=URI:https://hamburgwhl.infomaxnet.de/standard_widget_en/en/e-migrantpolitan-community-bathing-x-intersectional-discourse?eventDateId=29854005&widgetToken=22vcqFKw4GE.&
CLASS:PUBLIC
DTSTART:20260423T190000
DTSTAMP:20260422T200607
END:VEVENT
END:VCALENDAR