BEGIN:VCALENDAR
VERSION:2.0
PRODID:http://www.infomax-online.de/imxeventmanager/
METHOD:PUBLISH
BEGIN:VTIMEZONE
TZID:Europe/Berlin
TZURL:http://tzurl.org/zoneinfo-outlook/Europe/Berlin
X-LIC-LOCATION:Europe/Berlin
END:VTIMEZONE
BEGIN:VEVENT
UID:69e8cff417d87
LOCATION:Schloßfreiheit , 19288 Ludwigslust
SUMMARY;ENCODING=QUOTED-PRINTABLE:RENDEZVOUS - LUDWIGSLUSTER CASTLE STORIES
DESCRIPTION;ENCODING=QUOTED-PRINTABLE:"Adini - Princess Alexandrine of Prussia, her sisters and=0D=0Asisters-in-law"=0D=0A=0D=0ALecture by Rudolf Scharmann, Berlin=0D=0AAlexandrine of Prussia married Hereditary Grand Duke Paul Friedrich of=0D=0AMecklenburg-Schwerin in 1822 and moved from the big city of Berlin to=0D=0Atranquil Ludwigslust. A lavishly furnished apartment was set up for=0D=0Aher and her husband in Ludwigslust Palace until their wedding, which=0D=0Ahas been restored to its former glory since its reopening. Her=0D=0Anickname in the family was Adine or Adini, with which she signed her=0D=0Aletters, which were addressed not least to her two sisters and her=0D=0Afavorite sister-in-law Elisabeth, the Prussian queen.=0D=0AThe art historian Rudolf Scharmann was the long-time director of=0D=0ACharlottenburg Palace and is one of the best experts on Queen Luise of=0D=0APrussia and the personal history of the Prussian court in the 19th=0D=0Acentury in general. His latest book is dedicated to the "Prussian=0D=0APrincesses" from the Romantic era, including Alexandrine of Prussia.=0D=0A=0D=0A
URL;VALUE=URI:https://hamburgwhl.infomaxnet.de/standard_widget_en/en/e-rendezvous-ludwigsluster-castle-stories-2?eventDateId=29832579&widgetToken=22vcqFKw4GE.&
CLASS:PUBLIC
DTSTART:20260424T180000
DTSTAMP:20260422T154108
END:VEVENT
END:VCALENDAR