BEGIN:VCALENDAR
VERSION:2.0
PRODID:http://www.infomax-online.de/imxeventmanager/
METHOD:PUBLISH
BEGIN:VTIMEZONE
TZID:Europe/Berlin
TZURL:http://tzurl.org/zoneinfo-outlook/Europe/Berlin
X-LIC-LOCATION:Europe/Berlin
END:VTIMEZONE
BEGIN:VEVENT
UID:69e8b62177705
LOCATION:Lennéstraße 1, 19053 Schwerin
SUMMARY;ENCODING=QUOTED-PRINTABLE:RENDEZVOUS IN THE CASTLE
DESCRIPTION;ENCODING=QUOTED-PRINTABLE:A Mecklenburg woman in Prussia - Crown Princess Cecilie (1886-1954)=0D=0A=0D=0AWhen the 18-year-old Duchess Cecilie zu Mecklenburg married the=0D=0APrussian heir to the throne in 1905, her future seemed bright. 40=0D=0Ayears later, the former crown princess boarded an overcrowded refugee=0D=0Atrain in Berlin to flee the approaching Red Army to West Germany. What=0D=0Atasks did Cecilie perform as the second lady of the Empire, what was=0D=0Aher reaction to the end of the monarchy in 1918? How did her life=0D=0Adevelop after the abdication of her father-in-law, Kaiser Wilhelm II? =0D=0AJörg Kirschstein from the Prussian Palaces and Gardens Foundation=0D=0ABerlin-Brandenburg, one of the best experts on the eventful life of=0D=0Athe Mecklenburg princess, will talk about this.=0D=0AVenue: Historische Bibliothek=0D=0ATicket: €5=0D=0A
URL;VALUE=URI:https://hamburgwhl.infomaxnet.de/standard_widget_en/en/e-rendezvous-in-the-castle-4?eventDateId=29832563&widgetToken=22vcqFKw4GE.&
CLASS:PUBLIC
DTSTART:20260423T180000
DTSTAMP:20260422T135057
END:VEVENT
END:VCALENDAR