BEGIN:VCALENDAR
VERSION:2.0
PRODID:http://www.infomax-online.de/imxeventmanager/
METHOD:PUBLISH
BEGIN:VTIMEZONE
TZID:Europe/Berlin
TZURL:http://tzurl.org/zoneinfo-outlook/Europe/Berlin
X-LIC-LOCATION:Europe/Berlin
END:VTIMEZONE
BEGIN:VEVENT
UID:69e5bff984fcb
LOCATION:Rathausplatz 2, 23936 Grevesmühlen
SUMMARY;ENCODING=QUOTED-PRINTABLE:Picture book cinema in the Grevesmühlen municipal library
DESCRIPTION;ENCODING=QUOTED-PRINTABLE:Tuesday, 21.04.2026 at 3:30 pm "The new bunny school" by Anke Engelke.=0D=0AAll picture book cinemas are free of charge, start at 3.30 pm and last=0D=0Aapprox. 15 minutes. They are suitable for children aged 4 - 6 years.=0D=0ASubject to change. At the picture book cinema, children look at the=0D=0Apictures of a picture book together on a screen while the story is=0D=0Aread to them. The children can experience imaginative and exciting=0D=0Astories together, discover details in the pictures and answer=0D=0Aquestions. In this way, they learn how to handle books, listen to and=0D=0Aunderstand stories and are introduced to literature and reading in a=0D=0Aplayful way.=0D=0A=0D=0AThese days, there are not only little bunnies in the classroom at=0D=0Abunny school, but also a fox child. A fox - really? Hoppich the bunny=0D=0Agirl didn't expect that. She and her classmates quickly realize that a=0D=0Afox cub who unpacks carrots as a snack during recess is not a danger!=0D=0AThe threat comes from a completely different direction and fox and=0D=0Arabbit can only overcome this difficult situation together ...=0D=0A(Publisher's blurb)=0D=0A
URL;VALUE=URI:https://hamburgwhl.infomaxnet.de/standard_widget_en/en/e-picture-book-cinema-in-the-grevesmuehlen-municipal-library-14?eventDateId=29832468&widgetToken=22vcqFKw4GE.&
CLASS:PUBLIC
DTSTART:20260421T153000
DTSTAMP:20260420T075609
END:VEVENT
END:VCALENDAR