BEGIN:VCALENDAR
VERSION:2.0
PRODID:http://www.infomax-online.de/imxeventmanager/
METHOD:PUBLISH
BEGIN:VTIMEZONE
TZID:Europe/Berlin
TZURL:http://tzurl.org/zoneinfo-outlook/Europe/Berlin
X-LIC-LOCATION:Europe/Berlin
END:VTIMEZONE
BEGIN:VEVENT
UID:69e8cfbb66b48
LOCATION:Schloßfreiheit , 19288 Ludwigslust
SUMMARY;ENCODING=QUOTED-PRINTABLE:Karoline Luise - Princess between Weimar and Ludwigslust - Christian=0D=0APönitz, building and art historian, Weimar
DESCRIPTION;ENCODING=QUOTED-PRINTABLE:Karoline Luise, born in 1786 as the daughter of the "Goethe Duke" Karl=0D=0AAugust of Saxe-Weimar-Eisenach, enjoyed an excellent education. Her=0D=0Ateachers included Herder, she corresponded with Goethe and was a close=0D=0Afriend of Schiller's wife. In 1810, she married the hereditary prince=0D=0Aof Mecklenburg, Friedrich Ludwig, and moved to Ludwigslust. However,=0D=0Aher companion Henriette von Knebel found the artistic and intellectual=0D=0Alife at the ducal court here to be expandable. =0D=0A=0D=0AKaroline Luise, born in 1786 as the daughter of the "Goethe Duke" Karl=0D=0AAugust of Saxe-Weimar-Eisenach, enjoyed an excellent education. Her=0D=0Ateachers included Herder, she corresponded with Goethe and was close=0D=0Afriends with Schiller's wife. In 1810, she married the hereditary=0D=0Aprince of Mecklenburg, Friedrich Ludwig, and moved to Ludwigslust.=0D=0AHowever, her companion Henriette von Knebel found the artistic and=0D=0Aintellectual life at the ducal court here to be expandable.=0D=0A
URL;VALUE=URI:https://hamburgwhl.infomaxnet.de/standard_widget_en/en/e-karoline-luise-princess-between-weimar-and-ludwigslust-christian-poenitz-building-and-art?eventDateId=29832418&widgetToken=22vcqFKw4GE.&
CLASS:PUBLIC
DTSTART:20260424T180000
DTSTAMP:20260422T154011
END:VEVENT
END:VCALENDAR