BEGIN:VCALENDAR
VERSION:2.0
PRODID:http://www.infomax-online.de/imxeventmanager/
METHOD:PUBLISH
BEGIN:VTIMEZONE
TZID:Europe/Berlin
TZURL:http://tzurl.org/zoneinfo-outlook/Europe/Berlin
X-LIC-LOCATION:Europe/Berlin
END:VTIMEZONE
BEGIN:VEVENT
UID:69e55c4c7083b
LOCATION:Kurpromenade , 23669 Timmendorfer Strand
SUMMARY;ENCODING=QUOTED-PRINTABLE:Malen mit Pastellkreide - Motiv nach Wahl
DESCRIPTION;ENCODING=QUOTED-PRINTABLE:null=0D=0A
URL;VALUE=URI:https://hamburgwhl.infomaxnet.de/standard_widget_en/en/e-malen-mit-pastellkreide-motiv-nach-wahl?eventDateId=29824834&widgetToken=22vcqFKw4GE.&
CLASS:PUBLIC
DTSTART:20260425T100000
DTSTAMP:20260420T005052
END:VEVENT
END:VCALENDAR