BEGIN:VCALENDAR
VERSION:2.0
PRODID:http://www.infomax-online.de/imxeventmanager/
METHOD:PUBLISH
BEGIN:VTIMEZONE
TZID:Europe/Berlin
TZURL:http://tzurl.org/zoneinfo-outlook/Europe/Berlin
X-LIC-LOCATION:Europe/Berlin
END:VTIMEZONE
BEGIN:VEVENT
UID:69ecb9298c27c
LOCATION:Ziegenhorn 1, 19395 Plau am See
SUMMARY;ENCODING=QUOTED-PRINTABLE:Tree day
DESCRIPTION;ENCODING=QUOTED-PRINTABLE:Excursion with Ralf Koch to tree giants of the nature park on the=0D=0Aoccasion of the Day of the Tree. =0D=0A=0D=0AOn the occasion of the Day of the Tree, the Nossentiner/Schwinzer=0D=0AHeath Nature Park offers an excursion to some giant trees of the=0D=0Anature park. The excursion guide is Ralf Koch.=0D=0A=0D=0AMeeting point is at the Karower Meiler. A private car is required, if=0D=0Anecessary car pools will be formed.=0D=0A=0D=0AThe event is free of charge, donations for the Friends of the Nature=0D=0APark are welcome.=0D=0A
URL;VALUE=URI:https://hamburgwhl.infomaxnet.de/standard_widget_en/en/e-tree-day?eventDateId=29816269&widgetToken=22vcqFKw4GE.&
CLASS:PUBLIC
DTSTART:20260425T100000
DTSTAMP:20260425T145257
END:VEVENT
END:VCALENDAR