BEGIN:VCALENDAR
VERSION:2.0
PRODID:http://www.infomax-online.de/imxeventmanager/
METHOD:PUBLISH
BEGIN:VTIMEZONE
TZID:Europe/Berlin
TZURL:http://tzurl.org/zoneinfo-outlook/Europe/Berlin
X-LIC-LOCATION:Europe/Berlin
END:VTIMEZONE
BEGIN:VEVENT
UID:69e5bffe3f497
LOCATION:Franzosenweg , 19053 Schwerin
SUMMARY;ENCODING=QUOTED-PRINTABLE:Tones have many colors
DESCRIPTION;ENCODING=QUOTED-PRINTABLE:Family concert from 7 years=0D=0A=0D=0AWhat is hidden behind the notes, the instruments and the signs for=0D=0Adynamics and tempo? In this interactive concert, young listeners learn=0D=0Aall about the fascinating language of music. Moderated by Reinhild=0D=0AKöhncke.=0D=0A
URL;VALUE=URI:https://hamburgwhl.infomaxnet.de/standard_widget_en/en/e-tones-have-many-colors?eventDateId=29803795&widgetToken=22vcqFKw4GE.&
CLASS:PUBLIC
DTSTART:20260421T100000
DTSTAMP:20260420T075614
END:VEVENT
END:VCALENDAR