BEGIN:VCALENDAR
VERSION:2.0
PRODID:http://www.infomax-online.de/imxeventmanager/
METHOD:PUBLISH
BEGIN:VTIMEZONE
TZID:Europe/Berlin
TZURL:http://tzurl.org/zoneinfo-outlook/Europe/Berlin
X-LIC-LOCATION:Europe/Berlin
END:VTIMEZONE
BEGIN:VEVENT
UID:69e98ea22454b
LOCATION:Alsterdorfer Markt 4, 22297 Hamburg
SUMMARY;ENCODING=QUOTED-PRINTABLE:Wochenmarkt in Alsterdorf
DESCRIPTION;ENCODING=QUOTED-PRINTABLE:At the Alsterdorfer Markt, local residents stock up on fresh products=0D=0Afrom the region: in a pleasant atmosphere, the traders offer fruit and=0D=0Avegetables, meat and fish, bread and flowers or spices and dairy=0D=0Aproducts.=0D=0A
URL;VALUE=URI:https://hamburgwhl.infomaxnet.de/standard_widget_en/en/e-wochenmarkt-in-alsterdorf-1?eventDateId=29723744&widgetToken=22vcqFKw4GE.&
CLASS:PUBLIC
DTSTART:20260424T100000
DTSTAMP:20260423T051442
END:VEVENT
END:VCALENDAR