BEGIN:VCALENDAR
VERSION:2.0
PRODID:http://www.infomax-online.de/imxeventmanager/
METHOD:PUBLISH
BEGIN:VTIMEZONE
TZID:Europe/Berlin
TZURL:http://tzurl.org/zoneinfo-outlook/Europe/Berlin
X-LIC-LOCATION:Europe/Berlin
END:VTIMEZONE
BEGIN:VEVENT
UID:69e8e0e088a9d
LOCATION:Jarrestraße 20, 22303 Hamburg
SUMMARY;ENCODING=QUOTED-PRINTABLE:Jan Plewka: Eine Art Solokonzert - Tour 2026
DESCRIPTION;ENCODING=QUOTED-PRINTABLE:Jan Plewka: Eine Art Solokonzert - Tour 2026=0D=0A
URL;VALUE=URI:https://hamburgwhl.infomaxnet.de/standard_widget_en/en/e-jan-plewka-eine-art-solokonzert-1?eventDateId=29703228&widgetToken=22vcqFKw4GE.&
CLASS:PUBLIC
DTSTART:20260422T200000
DTSTAMP:20260422T165320
END:VEVENT
END:VCALENDAR