BEGIN:VCALENDAR
VERSION:2.0
PRODID:http://www.infomax-online.de/imxeventmanager/
METHOD:PUBLISH
BEGIN:VTIMEZONE
TZID:Europe/Berlin
TZURL:http://tzurl.org/zoneinfo-outlook/Europe/Berlin
X-LIC-LOCATION:Europe/Berlin
END:VTIMEZONE
BEGIN:VEVENT
UID:69e6b5f1a29ac
LOCATION:Fischmarkt , 22767 Hamburg
SUMMARY;ENCODING=QUOTED-PRINTABLE:Fischmarkt Hamburg
DESCRIPTION;ENCODING=QUOTED-PRINTABLE:The fish market in Hamburg is legendary and almost a must for every=0D=0Avisitor to Hamburg: Since 1703, pretty much everything that isn't=0D=0Anailed down has been traded here.=0D=0A=0D=0AEvery Sunday morning the fish market attracts visitors to the Elbe.=0D=0AEveryone will find what they are looking for, as almost everything is=0D=0Asold here: from lush fruit baskets, fresh fish or plastic bags full of=0D=0Asausages to porcelain, textiles and entire jungles of green plants.=0D=0A
URL;VALUE=URI:https://hamburgwhl.infomaxnet.de/standard_widget_en/en/e-fischmarkt-hamburg-1?eventDateId=29682184&widgetToken=22vcqFKw4GE.&
CLASS:PUBLIC
DTSTART:20260426T050000
DTSTAMP:20260421T012537
END:VEVENT
END:VCALENDAR