BEGIN:VCALENDAR
VERSION:2.0
PRODID:http://www.infomax-online.de/imxeventmanager/
METHOD:PUBLISH
BEGIN:VTIMEZONE
TZID:Europe/Berlin
TZURL:http://tzurl.org/zoneinfo-outlook/Europe/Berlin
X-LIC-LOCATION:Europe/Berlin
END:VTIMEZONE
BEGIN:VEVENT
UID:69ea6fa487d0d
LOCATION:Rahlstedter Bahnhofstraße , 22143 Hamburg
SUMMARY;ENCODING=QUOTED-PRINTABLE:Bio-Wochenmarkt… und Regionales Rahlstedt
DESCRIPTION;ENCODING=QUOTED-PRINTABLE:In the Rahlstedter Bahnhofstraße there are delicacies from the area=0D=0Ain a convivial atmosphere on Thursdays.=0D=0A
URL;VALUE=URI:https://hamburgwhl.infomaxnet.de/standard_widget_en/en/e-bio-wochenmarkt-und-regionales-rahlstedt?eventDateId=29681807&widgetToken=22vcqFKw4GE.&
CLASS:PUBLIC
DTSTART:20260423T090000
DTSTAMP:20260423T211444
END:VEVENT
END:VCALENDAR