BEGIN:VCALENDAR
VERSION:2.0
PRODID:http://www.infomax-online.de/imxeventmanager/
METHOD:PUBLISH
BEGIN:VTIMEZONE
TZID:Europe/Berlin
TZURL:http://tzurl.org/zoneinfo-outlook/Europe/Berlin
X-LIC-LOCATION:Europe/Berlin
END:VTIMEZONE
BEGIN:VEVENT
UID:69ed67e5c7d4a
LOCATION:Auf der Festung 3, 19303 Dömitz
SUMMARY;ENCODING=QUOTED-PRINTABLE:8th BiosphereElbeMarket
DESCRIPTION;ENCODING=QUOTED-PRINTABLE:In the courtyard of Dömitz Fortress you can expect culinary=0D=0Adelicacies and regional products from partners of the Biosphere=0D=0AReserve River Landscape Elbe, a varied guided tour program, a colorful=0D=0Achildren's and cultural program and an exhibition opening. Organizer:=0D=0ACity of Dömitz in cooperation with the Biosphere Reserve Office=0D=0ASchaalsee-Elbe.=0D=0A=0D=0APrice: 2,00 €/adult, children up to 14 years free of charge.=0D=0A=0D=0Awww.elbetal-mv.de / Tel. 0385 58863100=0D=0A
URL;VALUE=URI:https://hamburgwhl.infomaxnet.de/standard_widget_en/en/e-8th-biosphereelbemarket?eventDateId=29664009&widgetToken=22vcqFKw4GE.&
CLASS:PUBLIC
DTSTART:20260426T110000
DTSTAMP:20260426T031829
END:VEVENT
END:VCALENDAR