BEGIN:VCALENDAR
VERSION:2.0
PRODID:http://www.infomax-online.de/imxeventmanager/
METHOD:PUBLISH
BEGIN:VTIMEZONE
TZID:Europe/Berlin
TZURL:http://tzurl.org/zoneinfo-outlook/Europe/Berlin
X-LIC-LOCATION:Europe/Berlin
END:VTIMEZONE
BEGIN:VEVENT
UID:69ea236fe5eed
LOCATION:Platz der Deutschen Einheit 1, 20457 Hamburg
SUMMARY;ENCODING=QUOTED-PRINTABLE:Yutong Sun / Piano Recital
DESCRIPTION;ENCODING=QUOTED-PRINTABLE:The rapidly rising young Chinese pianist Yutong Sun, whose playing is=0D=0Acelebrated by the international press for its exceptional structural=0D=0Aclarity, inner tension and world-class sound design, is considered one=0D=0Aof the most remarkable musical storytellers of his generation. =0D=0AIn his debut in the Elbphilharmonie’s Recital Hall, Yutong Sun=0D=0Acreates a programmatic arc spanning three centuries, reflecting the=0D=0Amajor themes of inwardness, transformation and imagery. From=0D=0ABeethoven’s late self-questioning to Busoni’s romantically=0D=0Afiltered reimagining of Bach’s Chaconne to Debussy’s iridescent=0D=0Aworld of light and masquerade – ultimately culminating in=0D=0AMussorgsky’s iconic cycle Pictures at an Exhibition, which brings=0D=0Asound, memory and visual imagination together in a thrilling=0D=0Asynthesis.=0D=0A=0D=0APERFORMERS=0D=0A=0D=0AYUTONG SUN piano=0D=0A=0D=0APROGRAM=0D=0A=0D=0ALUDWIG VAN BEETHOVEN=0D=0ASonata for Piano in A-flat major, Op. 110=0D=0A=0D=0AJOHANN SEBASTIAN BACH / FERRUCCIO BUSONI=0D=0AChaconne=0D=0A=0D=0A- Interval -=0D=0A=0D=0ACLAUDE DEBUSSY=0D=0AMasques=0D=0A=0D=0ACLAUDE DEBUSSY=0D=0AL’isle joyeuse=0D=0A=0D=0AMODEST MUSSORGSKY=0D=0APictures at an Exhibition=0D=0A
URL;VALUE=URI:https://hamburgwhl.infomaxnet.de/standard_widget_en/en/e-yutong-sun-piano-recital?eventDateId=29656498&widgetToken=22vcqFKw4GE.&
CLASS:PUBLIC
DTSTART:20260425T193000
DTSTAMP:20260423T154935
END:VEVENT
END:VCALENDAR