BEGIN:VCALENDAR
VERSION:2.0
PRODID:http://www.infomax-online.de/imxeventmanager/
METHOD:PUBLISH
BEGIN:VTIMEZONE
TZID:Europe/Berlin
TZURL:http://tzurl.org/zoneinfo-outlook/Europe/Berlin
X-LIC-LOCATION:Europe/Berlin
END:VTIMEZONE
BEGIN:VEVENT
UID:69ed6ddfa0e43
LOCATION:Tannenhof , 24635 Daldorf
SUMMARY;ENCODING=QUOTED-PRINTABLE:Großes Frischlingsfest!
DESCRIPTION;ENCODING=QUOTED-PRINTABLE: =0D=0A=0D=0ALarge piglet festival!=0D=0A=0D=0AMany activities around the lively piglets! With wild boar safari,=0D=0Acrafting and participation activities, and expert guided tours.=0D=0A=0D=0AAdults 8,- €, Children 5,- €, Families 21,- €=0D=0A=0D=0A =0D=0A
URL;VALUE=URI:https://hamburgwhl.infomaxnet.de/standard_widget_en/en/e-grosses-frischlingsfest?eventDateId=29640849&widgetToken=22vcqFKw4GE.&
CLASS:PUBLIC
DTSTART:20260426T100000
DTSTAMP:20260426T034359
END:VEVENT
END:VCALENDAR