BEGIN:VCALENDAR
VERSION:2.0
PRODID:http://www.infomax-online.de/imxeventmanager/
METHOD:PUBLISH
BEGIN:VTIMEZONE
TZID:Europe/Berlin
TZURL:http://tzurl.org/zoneinfo-outlook/Europe/Berlin
X-LIC-LOCATION:Europe/Berlin
END:VTIMEZONE
BEGIN:VEVENT
UID:69e62882c4cfe
LOCATION:Lange Straße 38, 21640 Horneburg
SUMMARY;ENCODING=QUOTED-PRINTABLE:Cafe Zeitlos
DESCRIPTION;ENCODING=QUOTED-PRINTABLE:Please note: It is possible that an event has been cancelled but is=0D=0Astill listed on this website. For the latest information about=0D=0Acancelations or postponements please check the organizer’s website.=0D=0A=0D=0AThe self-help group on dementia. Here come dementia, relatives and=0D=0Ainterested people for breakfast, conversation, advice and help. The=0D=0Apatients are cared for.=0D=0A=0D=0A =0D=0A
URL;VALUE=URI:https://hamburgwhl.infomaxnet.de/standard_widget_en/en/e-cafe-zeitlos?eventDateId=29602583&widgetToken=22vcqFKw4GE.&
CLASS:PUBLIC
DTSTART:20260420T094500
DTSTAMP:20260420T152210
END:VEVENT
END:VCALENDAR