BEGIN:VCALENDAR
VERSION:2.0
PRODID:http://www.infomax-online.de/imxeventmanager/
METHOD:PUBLISH
BEGIN:VTIMEZONE
TZID:Europe/Berlin
TZURL:http://tzurl.org/zoneinfo-outlook/Europe/Berlin
X-LIC-LOCATION:Europe/Berlin
END:VTIMEZONE
BEGIN:VEVENT
UID:69e5227bc37d3
LOCATION:Madsow 1, 23974 Neuburg
SUMMARY;ENCODING=QUOTED-PRINTABLE:Painting workshops and vacation courses
DESCRIPTION;ENCODING=QUOTED-PRINTABLE:Events such as Kunst Offen, Open Gardens, Easter and Advent markets,=0D=0A"Mamerow und Freunde" arts and crafts market Individual appointments=0D=0Aby personal arrangement. Workshops for adults and vacation courses=0D=0A=0D=0AOur events such as a small Easter and Advent market take place in the=0D=0AMadsow art garden. We also take part in Kunst Offen and invite artists=0D=0Ato visit us to make it even more interesting for visitors. The same=0D=0Aapplies to our arts and crafts market "Mamerow und Freunde".=0D=0ADuring the event, our "Unverzicht-Bar" will provide refreshments with=0D=0Ahomemade cakes, tarts and hearty meals. You can enjoy the idyllic=0D=0Aatmosphere of the grounds at the edge of the field in the seating=0D=0Aareas.=0D=0A=0D=0AFrom May 1 to September 30, 2026, the studio with paintings, felt,=0D=0Ahandmade costume jewelry, cards, textiles... open every Sunday from=0D=0A11.00 am to 6.00 pm.=0D=0AWhether a meeting with friends, birthday party, team building or other=0D=0Aoccasions, we are at your disposal for a creative and painterly=0D=0Aafternoon.=0D=0A=0D=0AWorkshops 1st half year 2026=0D=0ARegistration: 01729152915=0D=0AThe costs for the workshop always include=0D=0Aalways material costs, snack and coffee.=0D=0ATime: 10.00 am to max. 4.00 pm=0D=0A=0D=0ANEW YEAR'S WORKSHOP ON SUNDAY 18.01.26=0D=0ATopic: Happy New Year=0D=0ACocktail, wine, Cuba Libre, gin and tonic, whiskey, etc.=0D=0AAcrylic painting on canvas, size: 40 x 50 cm=0D=0A50 € per participant=0D=0A=0D=0ASUNDAY 15.02.26=0D=0ATheme: Noble Shimmer - Elegant Shine=0D=0Aabstract painting, with gold, silver... + tissue paper=0D=0AAcrylic painting on canvas, size 40 x 50 cm=0D=0A55 € per participant=0D=0A=0D=0ASUNDAY 29.03.26=0D=0ATheme: Spring awakening and relaxation=0D=0Afrom almond trees to flower meadows=0D=0Aabstract painting to figurative elements=0D=0AAcrylic painting on canvas 50 x 50 cm=0D=0ASUNDAY 19.04.26 - Format 40 x 50=0D=0ASUNDAY 31.05.26 - format 60 x 80 in the garden=0D=0Amore details will follow=0D=0A
URL;VALUE=URI:https://hamburgwhl.infomaxnet.de/standard_widget_en/en/e-painting-workshops-and-vacation-courses?eventDateId=29558739&widgetToken=22vcqFKw4GE.&
CLASS:PUBLIC
DTSTART:20260419T100000
DTSTAMP:20260419T204411
END:VEVENT
END:VCALENDAR