BEGIN:VCALENDAR
VERSION:2.0
PRODID:http://www.infomax-online.de/imxeventmanager/
METHOD:PUBLISH
BEGIN:VTIMEZONE
TZID:Europe/Berlin
TZURL:http://tzurl.org/zoneinfo-outlook/Europe/Berlin
X-LIC-LOCATION:Europe/Berlin
END:VTIMEZONE
BEGIN:VEVENT
UID:69e5edeb3131a
LOCATION:Reeperbahn 136, 20359 Hamburg
SUMMARY;ENCODING=QUOTED-PRINTABLE:Wintersleep - Wishing Moon Tour
DESCRIPTION;ENCODING=QUOTED-PRINTABLE:After seven acclaimed albums, Canadian indie rock veterans Wintersleep=0D=0Aare back! “Wishing Moon”, the band’s eighth album, will be=0D=0Areleased on March 27, 2026, and heralds a new era for the band.=0D=0A=0D=0A“Wishing Moon” promises a glorious garage-rock frenzy, a perfect=0D=0Aalchemy of jubilation and grandeur that has always characterized=0D=0AWintersleep's sound. Recorded in producer Nicolas Vernhes' (The War on=0D=0ADrugs, Deerhunter, Animal Collective) studio in the heart of the=0D=0AMojave Desert, the collection of 12 songs testifies to a new vitality=0D=0Aand energy: The band's influences from prog, indie, folk, and=0D=0Aalternative rock are in full bloom, reaching towards the heavens with=0D=0Agrateful, open, and curious hearts. “The band's always at its=0D=0Astrongest when there's a fundamental groove that's rolling along,”=0D=0Asays drummer Loel Campbell – thus promising an energetic live=0D=0Aperformance of the new album, as well as older songs from the band's=0D=0Amore than 20-year history.=0D=0A=0D=0AWintersleep are coming to Germany in April 2026 with “Wishing=0D=0AMoon” for three exclusive shows – the perfect opportunity to wake=0D=0Aup from winter hibernation and finally see a really good indie show=0D=0Aagain!=0D=0A
URL;VALUE=URI:https://hamburgwhl.infomaxnet.de/standard_widget_en/en/e-wintersleep-wishing-moon-tour?eventDateId=29541087&widgetToken=22vcqFKw4GE.&
CLASS:PUBLIC
DTSTART:20260421T200000
DTSTAMP:20260420T111211
END:VEVENT
END:VCALENDAR