BEGIN:VCALENDAR
VERSION:2.0
PRODID:http://www.infomax-online.de/imxeventmanager/
METHOD:PUBLISH
BEGIN:VTIMEZONE
TZID:Europe/Berlin
TZURL:http://tzurl.org/zoneinfo-outlook/Europe/Berlin
X-LIC-LOCATION:Europe/Berlin
END:VTIMEZONE
BEGIN:VEVENT
UID:69e5a8acd3ba6
LOCATION:Schloßstraße 38, 19288 Ludwigslust
SUMMARY;ENCODING=QUOTED-PRINTABLE:Plattdütsch tau'n Hoegen und Besinnen
DESCRIPTION;ENCODING=QUOTED-PRINTABLE:Wolfgang Mahnke (Rostock) reads from his books=0D=0A=0D=0AJoint event of the Johannes Gillhoff Society and the Ludwigslust City=0D=0ALibrary;=0D=0A=0D=0ALocation: Town hall of the Ludwigslust town hall=0D=0A=0D=0AContact: Johannes-Gillhoff-Gesellschaft (Friedensstraße 5, 19303=0D=0APolz, Tel.: 038758 / 35426, www.johannes-gillhoff.de) and Ludwigslust=0D=0ACity Library (Schloßstraße 38, 19288 Ludwigslust, Tel.: 03874 / 526=0D=0A240, https://bibliothek.ludwigslust.de)=0D=0A
URL;VALUE=URI:https://hamburgwhl.infomaxnet.de/standard_widget_en/en/e-plattduetsch-taun-hoegen-und-besinnen-4-1?eventDateId=29498065&widgetToken=22vcqFKw4GE.&
CLASS:PUBLIC
DTSTART:20260424T150000
DTSTAMP:20260420T061644
END:VEVENT
END:VCALENDAR