BEGIN:VCALENDAR
VERSION:2.0
PRODID:http://www.infomax-online.de/imxeventmanager/
METHOD:PUBLISH
BEGIN:VTIMEZONE
TZID:Europe/Berlin
TZURL:http://tzurl.org/zoneinfo-outlook/Europe/Berlin
X-LIC-LOCATION:Europe/Berlin
END:VTIMEZONE
BEGIN:VEVENT
UID:69ecd204498bf
LOCATION:Rennbahnweg , 19288 Ludwigslust
SUMMARY;ENCODING=QUOTED-PRINTABLE:DeepOnTrack 2024 - Floodlight
DESCRIPTION;ENCODING=QUOTED-PRINTABLE:You can expect 310 lovingly rebuilt or modified vehicles and around=0D=0A110 mopeds that can be viewed in a pleasant atmosphere.=0D=0A=0D=0AAs always, Wurst Uli and other vendors will be providing refreshments=0D=0Aso that nobody has to go home hungry.=0D=0A=0D=0A =0D=0A
URL;VALUE=URI:https://hamburgwhl.infomaxnet.de/standard_widget_en/en/e-deepontrack-2024-floodlight?eventDateId=29498063&widgetToken=22vcqFKw4GE.&
CLASS:PUBLIC
DTSTART:20260425T170000
DTSTAMP:20260425T163900
END:VEVENT
END:VCALENDAR