BEGIN:VCALENDAR
VERSION:2.0
PRODID:http://www.infomax-online.de/imxeventmanager/
METHOD:PUBLISH
BEGIN:VTIMEZONE
TZID:Europe/Berlin
TZURL:http://tzurl.org/zoneinfo-outlook/Europe/Berlin
X-LIC-LOCATION:Europe/Berlin
END:VTIMEZONE
BEGIN:VEVENT
UID:69eb88913755f
LOCATION: , 23966 Wismar
SUMMARY;ENCODING=QUOTED-PRINTABLE:KinderUni "What actually is electricity?"
DESCRIPTION;ENCODING=QUOTED-PRINTABLE:The KinderUni lectures are aimed at children between the ages of 8 and=0D=0A12.=0D=0A=0D=0AProf. Dr. Tobias Rösch, Wismar University of Applied Sciences,=0D=0AFaculty of Engineering/Department of Electrical Engineering and=0D=0AComputer Science =0D=0A=0D=0AThose interested can register directly via the form on the KinderUni=0D=0AWismar website ( www.hs-wismar.de/kinderuni ), by e-mail:=0D=0Akinder-uni@hs-wismar.de , by telephone with Silke Schröder: 03841=0D=0A753-72 09 or directly before the lecture. =0D=0AParticipation is free of charge. As usual, parents, relatives and=0D=0Afriends can follow the lecture in lecture hall 201 via video=0D=0Atransmission. =0D=0AAll inquisitive children between the ages of 8 and 12 can choose=0D=0Awhether they want to attend the KinderUni lecture at 3.00 pm or 4.30=0D=0Apm. Registration is possible via the website=0D=0Awww.hs-wismar.de/kinderuni.=0D=0A
URL;VALUE=URI:https://hamburgwhl.infomaxnet.de/standard_widget_en/en/e-kinderuni-what-actually-is-electricity?eventDateId=29497319&widgetToken=22vcqFKw4GE.&
CLASS:PUBLIC
DTSTART:20260424T150000
DTSTAMP:20260424T171321
END:VEVENT
END:VCALENDAR