BEGIN:VCALENDAR
VERSION:2.0
PRODID:http://www.infomax-online.de/imxeventmanager/
METHOD:PUBLISH
BEGIN:VTIMEZONE
TZID:Europe/Berlin
TZURL:http://tzurl.org/zoneinfo-outlook/Europe/Berlin
X-LIC-LOCATION:Europe/Berlin
END:VTIMEZONE
BEGIN:VEVENT
UID:69ecd49ebf5fb
LOCATION:Herthastraße 20, 22179 Hamburg
SUMMARY;ENCODING=QUOTED-PRINTABLE:Bramfelder Frühjahrsmarkt
DESCRIPTION;ENCODING=QUOTED-PRINTABLE:Bramfeld Spring Market on the Bramfeld market square.=0D=0A
URL;VALUE=URI:https://hamburgwhl.infomaxnet.de/standard_widget_en/en/e-bramfelder-fruehjahrsmarkt?eventDateId=29495980&widgetToken=22vcqFKw4GE.&
CLASS:PUBLIC
DTSTART:20260425T140000
DTSTAMP:20260425T165006
END:VEVENT
END:VCALENDAR