BEGIN:VCALENDAR
VERSION:2.0
PRODID:http://www.infomax-online.de/imxeventmanager/
METHOD:PUBLISH
BEGIN:VTIMEZONE
TZID:Europe/Berlin
TZURL:http://tzurl.org/zoneinfo-outlook/Europe/Berlin
X-LIC-LOCATION:Europe/Berlin
END:VTIMEZONE
BEGIN:VEVENT
UID:69e51c5c6e331
LOCATION:Oldesloer Straße 20, 23795 Bad Segeberg
SUMMARY;ENCODING=QUOTED-PRINTABLE:Digitale Sprechstunde
DESCRIPTION;ENCODING=QUOTED-PRINTABLE: =0D=0A=0D=0ADo you have problems with your smartphone/computer or other questions=0D=0Aabout digitalization? Feel free to come by on Fridays from 11 AM to 12=0D=0APM during our free consultation hours at the city library. No=0D=0Aregistration is necessary. You are welcome to bring the relevant=0D=0Adevices with you.=0D=0A=0D=0A =0D=0A
URL;VALUE=URI:https://hamburgwhl.infomaxnet.de/standard_widget_en/en/e-digitale-sprechstunde?eventDateId=29182759&widgetToken=22vcqFKw4GE.&
CLASS:PUBLIC
DTSTART:20260424T110000
DTSTAMP:20260419T201804
END:VEVENT
END:VCALENDAR