BEGIN:VCALENDAR
VERSION:2.0
PRODID:http://www.infomax-online.de/imxeventmanager/
METHOD:PUBLISH
BEGIN:VTIMEZONE
TZID:Europe/Berlin
TZURL:http://tzurl.org/zoneinfo-outlook/Europe/Berlin
X-LIC-LOCATION:Europe/Berlin
END:VTIMEZONE
BEGIN:VEVENT
UID:69e605923e560
LOCATION:Platz der Deutschen Einheit 1, 20457 Hamburg
SUMMARY;ENCODING=QUOTED-PRINTABLE:Czech Philharmonic / Sol Gabetta / Semyon Bychkov
DESCRIPTION;ENCODING=QUOTED-PRINTABLE:PERFORMERS=0D=0A=0D=0ATSCHECHISCHE PHILHARMONIE orchestra=0D=0A=0D=0ASOL GABETTA violoncello=0D=0A=0D=0ASEMYON BYCHKOV conductor=0D=0A=0D=0APROGRAM=0D=0A=0D=0AANTONÍN DVOŘÁK=0D=0ACarnival=0D=0A=0D=0AEDWARD ELGAR=0D=0AConcerto for Violoncello and Orchestra in E minor, Op. 85=0D=0A=0D=0A- Interval -=0D=0A=0D=0AIGOR STRAWINSKY=0D=0ALe sacre du printemps=0D=0A
URL;VALUE=URI:https://hamburgwhl.infomaxnet.de/standard_widget_en/en/e-tschechische-philharmonie-sol-gabetta-semyon-bychkov?eventDateId=29181017&widgetToken=22vcqFKw4GE.&
CLASS:PUBLIC
DTSTART:20260421T200000
DTSTAMP:20260420T125306
END:VEVENT
END:VCALENDAR