BEGIN:VCALENDAR
VERSION:2.0
PRODID:http://www.infomax-online.de/imxeventmanager/
METHOD:PUBLISH
BEGIN:VTIMEZONE
TZID:Europe/Berlin
TZURL:http://tzurl.org/zoneinfo-outlook/Europe/Berlin
X-LIC-LOCATION:Europe/Berlin
END:VTIMEZONE
BEGIN:VEVENT
UID:69ebf92a0bd55
LOCATION:Johannes-Brahms-Platz , 20355 Hamburg
SUMMARY;ENCODING=QUOTED-PRINTABLE:Nils Wülker Quartet: ZUVERSICHT
DESCRIPTION;ENCODING=QUOTED-PRINTABLE:Zuversicht (Confidence) is when we experience hope so actively that we=0D=0Atrust in the future despite all odds. The newly released album of the=0D=0Asame name – the fifteenth by the »sonically brilliant trumpeter and=0D=0Aexceptional composer« Nils Wülker, and his first with a German title=0D=0A– radiates this life energy in many wonderful ways. The eleven=0D=0Aoriginal compositions, recorded in a quartet, bring a sense of=0D=0Acompletion while opening up new horizons. They deliberately push the=0D=0Abandleader out of his comfort zone into a beautiful, new sonic world.=0D=0A=0D=0AAlongside Nils Wülker, an international all-star lineup takes the=0D=0Astage, featuring Linda May Han Oh, Greg Hutchinson, and Omer Klein.=0D=0AIt’s a great opportunity to experience Nils Wülker’s=0D=0Aspontaneously developed new pieces and the rich, modern sound world of=0D=0Athis music up close. »I don’t expect music to bring about direct,=0D=0Ameasurable change,« says Nils Wülker. »But I always trust that=0D=0AI’m putting something positive out into the world – something that=0D=0Acatches on, resonates, manifests– and hopefully that’s meaningful=0D=0Aand inspiring.«=0D=0A=0D=0APERFORMERS=0D=0A=0D=0ANILS WÜLKER QUARTET quartet=0D=0A=0D=0ANILS WÜLKER trumpet=0D=0A=0D=0ALINDA MAY HAN OH double bass=0D=0A=0D=0AGREGORY HUTCHINSON drums=0D=0A=0D=0AOMER KLEIN piano=0D=0A
URL;VALUE=URI:https://hamburgwhl.infomaxnet.de/standard_widget_en/en/e-nils-wuelker-quartet?eventDateId=29158327&widgetToken=22vcqFKw4GE.&
CLASS:PUBLIC
DTSTART:20260430T200000
DTSTAMP:20260425T011346
END:VEVENT
END:VCALENDAR