BEGIN:VCALENDAR
VERSION:2.0
PRODID:http://www.infomax-online.de/imxeventmanager/
METHOD:PUBLISH
BEGIN:VTIMEZONE
TZID:Europe/Berlin
TZURL:http://tzurl.org/zoneinfo-outlook/Europe/Berlin
X-LIC-LOCATION:Europe/Berlin
END:VTIMEZONE
BEGIN:VEVENT
UID:69e81075669fe
LOCATION:Johannes-Brahms-Platz , 20355 Hamburg
SUMMARY;ENCODING=QUOTED-PRINTABLE:Swing Dance Orchestra
DESCRIPTION;ENCODING=QUOTED-PRINTABLE:»Best of Swing« combines the highlights of American swing music in=0D=0Aone program. Swing King« Andrej Hermlin and his big band go on a=0D=0Ajourney to America in the 1930s, to the great era of a music that is=0D=0Acurrently experiencing a remarkable renaissance – swing! The=0D=0Arepertoire includes numerous well-known but also rare original=0D=0Aarrangements, melodies by the most famous orchestras of the swing era,=0D=0Asuch as Benny Goodman or Glenn Miller, as well as Andrej Hermlin’s=0D=0Aown arrangements. The Swing Dance Orchestra is authentic down to the=0D=0Alast detail: the sound, the arrangements, the microphones and the=0D=0Aconsoles, the instruments and the wardrobe all correspond to the=0D=0AAmerican originals of the time.=0D=0A=0D=0APERFORMERS=0D=0A=0D=0ASWING DANCE ORCHESTRA orchestra=0D=0A=0D=0ARACHEL HERMLIN vocals=0D=0A=0D=0ADAVID HERMLIN drums=0D=0A=0D=0AANDREJ HERMLIN director=0D=0A=0D=0APROGRAM=0D=0A=0D=0A»Best of Swing«=0D=0A=0D=0A =0D=0A=0D=0AThe concert takes place with an interval.=0D=0A=0D=0A =0D=0A
URL;VALUE=URI:https://hamburgwhl.infomaxnet.de/standard_widget_en/en/e-swing-dance-orchestra-2?eventDateId=29099850&widgetToken=22vcqFKw4GE.&
CLASS:PUBLIC
DTSTART:20260423T200000
DTSTAMP:20260422T020405
END:VEVENT
END:VCALENDAR