BEGIN:VCALENDAR
VERSION:2.0
PRODID:http://www.infomax-online.de/imxeventmanager/
METHOD:PUBLISH
BEGIN:VTIMEZONE
TZID:Europe/Berlin
TZURL:http://tzurl.org/zoneinfo-outlook/Europe/Berlin
X-LIC-LOCATION:Europe/Berlin
END:VTIMEZONE
BEGIN:VEVENT
UID:69e6054c1366e
LOCATION:Poststraße 12, 29614 Soltau
SUMMARY;ENCODING=QUOTED-PRINTABLE:Besuch des historischen Freudenthal-Zimmers
DESCRIPTION;ENCODING=QUOTED-PRINTABLE:The Freudenthal Room in the Old Town Hall, Poststraße 12, Soltau, is=0D=0Aopen every third Monday of the month from 4:00 p.m. to 6:00 p.m. Some=0D=0Aof the room's furnishings were inherited from the descendants of the=0D=0Awriter Friedrich Freudenthal (1849-1929), who was mayor of Soltau from=0D=0A1884 to 1887. Dedicated volunteers are waiting to show you the room=0D=0Aand give you a brief insight into the life and work of the brothers=0D=0AFriedrich and August Freudenthal, as well as to discuss the literature=0D=0Aand history of our region and beyond. The annual "Binnebbom,"=0D=0Afeaturing interesting and entertaining articles from and about the=0D=0Aregion, is also available for purchase, as are other publications of=0D=0Athe Freudenthal Society. The Freudenthal Room is wheelchair accessible=0D=0Athrough the side entrance of the Old Town Hall. Admission is free.=0D=0A
URL;VALUE=URI:https://hamburgwhl.infomaxnet.de/standard_widget_en/en/e-besuch-des-historischen-freudenthal-zimmers?eventDateId=29082679&widgetToken=22vcqFKw4GE.&
CLASS:PUBLIC
DTSTART:20260420T160000
DTSTAMP:20260420T125156
END:VEVENT
END:VCALENDAR