BEGIN:VCALENDAR
VERSION:2.0
PRODID:http://www.infomax-online.de/imxeventmanager/
METHOD:PUBLISH
BEGIN:VTIMEZONE
TZID:Europe/Berlin
TZURL:http://tzurl.org/zoneinfo-outlook/Europe/Berlin
X-LIC-LOCATION:Europe/Berlin
END:VTIMEZONE
BEGIN:VEVENT
UID:69e5be19ae272
LOCATION:Spielbudenplatz 24-25, 20359 Hamburg
SUMMARY;ENCODING=QUOTED-PRINTABLE:Hidden Shakespeare
DESCRIPTION;ENCODING=QUOTED-PRINTABLE:Please note: It is possible that an event has been cancelled but is=0D=0Astill listed on this website. For the latest information about=0D=0Acancelations or postponements please check the organizer’s website.=0D=0A=0D=0AEVERY EVENING IS A PREMIERE! =0D=0AImprovisational theater with hidden shakespeare=0D=0A=0D=0AFor more than 20 years, the team of hidden shakespeare is one of the=0D=0Amost renowned and experienced improvisational theater in Germany.=0D=0AInspired by the suggestions of the audience, the actors spontaneously=0D=0Adevelop all dramas, poems or songs. With live music, unique and=0D=0Aunrepeatable. =0D=0A=0D=0AAnd not just in Hamburg theaters, saying: Alma Hoppes Lustspielhaus=0D=0Aand the Schmidt Theatre, no, they follow referrals from Bellevue=0D=0ACastle to the presidency or in the NDR Talk Show. =0D=0A=0D=0AThey also dare something new and that is rewarded. In February 2012,=0D=0Athey were among the lucky winners of the Max Ophüls Film Prize for=0D=0Atheir improvised movie "Christmas Eve with the hare" and were also on=0D=0Athe, Improvised Film Festival Sydney 'excellent. Her latest improvised=0D=0Acinema, a final 'was also enthusiastically received in the past year=0D=0Aat various festivals. =0D=0A=0D=0ALook forward to an unforgettable evening! =0D=0Ahidden shakespeare are the Mignon Remé, Kirsten Sprick, Rolf=0D=0AClaussen, Thorsten Neelmeyer and Frank Thomé. =0D=0A=0D=0APRESS:=0D=0A"With spontaneity, wit and dry humor succeeded Sextet an hour keep the=0D=0Alaughter at cooking." =0D=0Ataz, Hamburg =0D=0A=0D=0A"Man is unable to escape this adventurous game ... The group relies on=0D=0Athe essence of their art of acting" =0D=0ANDR Hamburg shaft Abendjournal=0D=0A
URL;VALUE=URI:https://hamburgwhl.infomaxnet.de/standard_widget_en/en/e-hidden-shakespeare-2?eventDateId=28993617&widgetToken=22vcqFKw4GE.&
CLASS:PUBLIC
DTSTART:20260420T190000
DTSTAMP:20260420T074809
END:VEVENT
END:VCALENDAR