BEGIN:VCALENDAR
VERSION:2.0
PRODID:http://www.infomax-online.de/imxeventmanager/
METHOD:PUBLISH
BEGIN:VTIMEZONE
TZID:Europe/Berlin
TZURL:http://tzurl.org/zoneinfo-outlook/Europe/Berlin
X-LIC-LOCATION:Europe/Berlin
END:VTIMEZONE
BEGIN:VEVENT
UID:69e7488d2ed8b
LOCATION:Platz der Deutschen Einheit 1, 20457 Hamburg
SUMMARY;ENCODING=QUOTED-PRINTABLE:Workshop: Kreativ Sound Safari
DESCRIPTION;ENCODING=QUOTED-PRINTABLE:With their ears pricked up, the participants go through the=0D=0AElbphilharmonie and capture exciting sounds with their microphone.=0D=0AWhat sounds can you find in the concert hall when no concerts are=0D=0Abeing performed? With a tablet together with an app, the participants=0D=0Arecord sound snippets which they can later edit and arrange into a=0D=0Ashort piece of music.=0D=0A=0D=0APLEASE NOTE: This workshop is aimed at families with children aged 8+.=0D=0AChildren may only participate if accompanied by an adult guardian with=0D=0Aa ticket.=0D=0A=0D=0AChildren younger than eight years may not participate in this=0D=0Aworkshop.=0D=0A
URL;VALUE=URI:https://hamburgwhl.infomaxnet.de/standard_widget_en/en/e-workshop-kreativ-sound-safari-10?eventDateId=28187856&widgetToken=22vcqFKw4GE.&
CLASS:PUBLIC
DTSTART:20260425T120000
DTSTAMP:20260421T115109
END:VEVENT
END:VCALENDAR