BEGIN:VCALENDAR
VERSION:2.0
PRODID:http://www.infomax-online.de/imxeventmanager/
METHOD:PUBLISH
BEGIN:VTIMEZONE
TZID:Europe/Berlin
TZURL:http://tzurl.org/zoneinfo-outlook/Europe/Berlin
X-LIC-LOCATION:Europe/Berlin
END:VTIMEZONE
BEGIN:VEVENT
UID:69eb3a70bf14e
LOCATION:Platz der Deutschen Einheit 1, 20457 Hamburg
SUMMARY;ENCODING=QUOTED-PRINTABLE:The Deutsche Kammerphilharmonie Bremen
DESCRIPTION;ENCODING=QUOTED-PRINTABLE:PERFORMERS=0D=0A=0D=0ADIE DEUTSCHE KAMMERPHILHARMONIE BREMEN orchestra=0D=0A=0D=0AMAO FUJITA piano=0D=0A=0D=0APAAVO JÄRVI conductor=0D=0A=0D=0APROGRAM=0D=0A=0D=0AFRANZ SCHUBERT=0D=0ASymphony No. 1 in D major, D 82=0D=0A=0D=0AWOLFGANG AMADEUS MOZART=0D=0AKonzert für Klavier und Orchester F-Dur KV 459=0D=0A=0D=0A- Interval -=0D=0A=0D=0AFRANZ SCHUBERT=0D=0ASymphony No. 3 in D major, D 200=0D=0A
URL;VALUE=URI:https://hamburgwhl.infomaxnet.de/standard_widget_en/en/e-the-deutsche-kammerphilharmonie-bremen-1?eventDateId=28187567&widgetToken=22vcqFKw4GE.&
CLASS:PUBLIC
DTSTART:20260425T200000
DTSTAMP:20260424T114000
END:VEVENT
END:VCALENDAR