BEGIN:VCALENDAR
VERSION:2.0
PRODID:http://www.infomax-online.de/imxeventmanager/
METHOD:PUBLISH
BEGIN:VTIMEZONE
TZID:Europe/Berlin
TZURL:http://tzurl.org/zoneinfo-outlook/Europe/Berlin
X-LIC-LOCATION:Europe/Berlin
END:VTIMEZONE
BEGIN:VEVENT
UID:69e5f23be4c47
LOCATION:Platz der Deutschen Einheit 1, 20457 Hamburg
SUMMARY;ENCODING=QUOTED-PRINTABLE:Czech Philharmonic / Semyon Bychkov
DESCRIPTION;ENCODING=QUOTED-PRINTABLE:Only a few can spur on the idiosyncratic organism of a great orchestra=0D=0Asolely with the tip of their baton to such top performances as Semyon=0D=0ABychkov. Together with the Czech Philharmonic, over which he has=0D=0Apresided as principal conductor since 2018, Bychkov sets off on a=0D=0Amusical journey heading south – on the programme is Italian-inspired=0D=0Amusic by Felix Mendelssohn and Igor Stravinsky.=0D=0A=0D=0APERFORMERS=0D=0A=0D=0ATSCHECHISCHE PHILHARMONIE orchestra=0D=0A=0D=0ASTEFANIE IRÁNYI mezzo-soprano=0D=0A=0D=0AERIC FINBARR CAREY tenor=0D=0A=0D=0AJONGMIN PARK bass=0D=0A=0D=0ASEMYON BYCHKOV conductor=0D=0A=0D=0APROGRAM=0D=0A=0D=0AFELIX MENDELSSOHN BARTHOLDY=0D=0ASymphony No. 4 in A major, Op. 90 »Italian«=0D=0A=0D=0A- Interval -=0D=0A=0D=0AIGOR STRAWINSKY=0D=0APulcinella=0D=0A
URL;VALUE=URI:https://hamburgwhl.infomaxnet.de/standard_widget_en/en/e-tschechische-philharmonie-semyon-bychkov?eventDateId=28187549&widgetToken=22vcqFKw4GE.&
CLASS:PUBLIC
DTSTART:20260422T200000
DTSTAMP:20260420T113035
END:VEVENT
END:VCALENDAR