BEGIN:VCALENDAR
VERSION:2.0
PRODID:http://www.infomax-online.de/imxeventmanager/
METHOD:PUBLISH
BEGIN:VTIMEZONE
TZID:Europe/Berlin
TZURL:http://tzurl.org/zoneinfo-outlook/Europe/Berlin
X-LIC-LOCATION:Europe/Berlin
END:VTIMEZONE
BEGIN:VEVENT
UID:69ea0e31312fc
LOCATION:Johannes-Brahms-Platz , 20355 Hamburg
SUMMARY;ENCODING=QUOTED-PRINTABLE:Symphoniker Hamburg / Lunch Concert
DESCRIPTION;ENCODING=QUOTED-PRINTABLE:Classical music is seldom experienced in such a relaxed, informal way.=0D=0AThe Symphoniker Hamburg’s lunch concerts make it possible: On a=0D=0Aflying visit to Hamburg? A little time in your lunch break? Looking=0D=0Afor an idea for a joint outing? Every one or two months, on a Tuesday=0D=0Alunchtime, you can just drop in at the Brahms Foyer of the=0D=0ALaeiszhalle. You don’t even need a ticket for the chamber music=0D=0Atreats. Admission is free, but seating is limited. There is only a=0D=0Adonation box at the exit – for those who enjoyed it.=0D=0A=0D=0AThe programmes are varied, with new insights into music history to be=0D=0Agained at each concert. Word has spread about the attractiveness of=0D=0Athe half-hour concerts: Coming early ensures seats. The lunch concerts=0D=0Aalways begin at 12:30, but the doors at the main portal of the=0D=0ALaeiszhalle are already open from 11:30. Then the friendly staff of=0D=0Athe Laeiszhalle catering will also be ready to sell light food and=0D=0Adrinks.=0D=0A
URL;VALUE=URI:https://hamburgwhl.infomaxnet.de/standard_widget_en/en/e-symphoniker-hamburg-lunch-concert-20?eventDateId=28164914&widgetToken=22vcqFKw4GE.&
CLASS:PUBLIC
DTSTART:20260421T123000
DTSTAMP:20260423T141857
END:VEVENT
END:VCALENDAR