BEGIN:VCALENDAR
VERSION:2.0
PRODID:http://www.infomax-online.de/imxeventmanager/
METHOD:PUBLISH
BEGIN:VTIMEZONE
TZID:Europe/Berlin
TZURL:http://tzurl.org/zoneinfo-outlook/Europe/Berlin
X-LIC-LOCATION:Europe/Berlin
END:VTIMEZONE
BEGIN:VEVENT
UID:69e5bfc314ea4
LOCATION:Platz der Deutschen Einheit 1, 20457 Hamburg
SUMMARY;ENCODING=QUOTED-PRINTABLE:Symphoniker Hamburg / Clara-Jumi Kang / Sylvain Cambreling
DESCRIPTION;ENCODING=QUOTED-PRINTABLE:PERFORMERS=0D=0A=0D=0ASYMPHONIKER HAMBURG orchestra=0D=0A=0D=0ACLARA-JUMI KANG violin=0D=0A=0D=0ASYLVAIN CAMBRELING conductor=0D=0A=0D=0APROGRAM=0D=0A=0D=0ALUDWIG VAN BEETHOVEN=0D=0AConcerto for Violin and Orchestra in D major, Op. 61=0D=0A=0D=0ALUDWIG VAN BEETHOVEN=0D=0ASymphony No. 6 in F major, Op. 68 »Pastoral Symphony«=0D=0A
URL;VALUE=URI:https://hamburgwhl.infomaxnet.de/standard_widget_en/en/e-symphoniker-hamburg-clara-jumi-kang-sylvain-cambreling?eventDateId=28164870&widgetToken=22vcqFKw4GE.&
CLASS:PUBLIC
DTSTART:20260420T200000
DTSTAMP:20260420T075515
END:VEVENT
END:VCALENDAR