BEGIN:VCALENDAR
VERSION:2.0
PRODID:http://www.infomax-online.de/imxeventmanager/
METHOD:PUBLISH
BEGIN:VTIMEZONE
TZID:Europe/Berlin
TZURL:http://tzurl.org/zoneinfo-outlook/Europe/Berlin
X-LIC-LOCATION:Europe/Berlin
END:VTIMEZONE
BEGIN:VEVENT
UID:69ed09ff4423d
LOCATION:Deichreihe 11 (Clubhaus) , 21756 Osten
SUMMARY;ENCODING=QUOTED-PRINTABLE:Ansegeln bzw. Anmotoren beim WSC Osten e.V. - Fahrt ins Blaue
DESCRIPTION;ENCODING=QUOTED-PRINTABLE:Ansegeln bzw. Anmotoren beim WSC Osten e.V.!=0D=0AFahrt ins Blaue (nach Absprache). Weitere Infos erhalten Sie beim=0D=0AVeranstalter!=0D=0A
URL;VALUE=URI:https://hamburgwhl.infomaxnet.de/standard_widget_de/e-ansegeln-bzw-anmotoren-beim-wsc-osten-ev-fahrt-ins-blaue?eventDateId=30205189&widgetToken=22vcqFKw4GE.&
CLASS:PUBLIC
DTSTART:20260425T090000
DTSTAMP:20260425T203751
END:VEVENT
END:VCALENDAR