BEGIN:VCALENDAR
VERSION:2.0
PRODID:http://www.infomax-online.de/imxeventmanager/
METHOD:PUBLISH
BEGIN:VTIMEZONE
TZID:Europe/Berlin
TZURL:http://tzurl.org/zoneinfo-outlook/Europe/Berlin
X-LIC-LOCATION:Europe/Berlin
END:VTIMEZONE
BEGIN:VEVENT
UID:69ed08261dce3
LOCATION:Moorfuhrtweg 9, 22301 Hamburg
SUMMARY;ENCODING=QUOTED-PRINTABLE:Tanz in den Mai
DESCRIPTION;ENCODING=QUOTED-PRINTABLE:Entspannt in den Mai tanzen! Endlich ist das trübe Wetter vorbei,=0D=0Adie Bäume schlagen aus und wir tanzen auf drei Floors die=0D=0AFrühjahrsmüdigkeit weg.=0D=0A=0D=0AAuch im Innenhof versorgen wir Euch mit leckeren Getränken aus=0D=0Aunserem Sortiment. Zusätzlich haben sich Winterhuder Bier =0D=0A[https://www.winterhuderbeer.com/]& Kehrwieder Bier=0D=0A[https://www.kehrwieder.shop/] für ihren ersten Auftritt bei unserem=0D=0ATanz in den Mai etwas ganz Besonderes einfallen lassen: den=0D=0AWinterhuder Maibock. Und den gibt`s nur exklusiv bei uns. Wenn die=0D=0AFässer leer sind, sind sie leer. Hanzz Wurst=0D=0A[https://hanzzwurst.de/] verwöhnt Euch mit klassischer oder veganer=0D=0AGourmet-Bratwurst.=0D=0A=0D=0AWir freuen uns auf Euch.=0D=0A=0D=0AMit: DJ Nartan (Halle | Soul, Tanzklassiker bis Aktuelles), DJ n.n.=0D=0A(Bühne zum Hof), DJ Kerlin da Silva (Deck 9d | Swingparty)=0D=0A=0D=0AOrt: Halle, Bühne zum Hof, Deck 9d=0D=0A=0D=0AInfos: Der Vorverkauf startet in Kürze=0D=0A=0D=0AEintritt: AK 20,- | VVK 15,- (zzgl. VVk Gebühren)=0D=0A
URL;VALUE=URI:https://hamburgwhl.infomaxnet.de/standard_widget_de/e-tanz-in-den-mai-8?eventDateId=30203975&widgetToken=22vcqFKw4GE.&
CLASS:PUBLIC
DTSTART:20260430T200000
DTSTAMP:20260425T202958
END:VEVENT
END:VCALENDAR