BEGIN:VCALENDAR
VERSION:2.0
PRODID:http://www.infomax-online.de/imxeventmanager/
METHOD:PUBLISH
BEGIN:VTIMEZONE
TZID:Europe/Berlin
TZURL:http://tzurl.org/zoneinfo-outlook/Europe/Berlin
X-LIC-LOCATION:Europe/Berlin
END:VTIMEZONE
BEGIN:VEVENT
UID:69ed7faa7df3e
LOCATION:Plüter 1, 19230 Bresegard bei Picher
SUMMARY;ENCODING=QUOTED-PRINTABLE:Alpakawanderung
DESCRIPTION;ENCODING=QUOTED-PRINTABLE:Erlebt den besonderen Zauber, wenn ihr mit den wundervollen,=0D=0Acharakterstarken Alpakas die Heidelandschaft in ihrer Schönheit und=0D=0ARuhe erkundet! Einige unserer Alpakas wählen ihre*n menschliche*n=0D=0AWanderpartner*in meist selbst aus. Sobald alle Mensch-Alpaka-Paare=0D=0Agefunden sind, starten wir zur Wanderung. =0D=0A=0D=0AERLEBT DEN BESONDEREN ZAUBER, WENN IHR MIT DEN WUNDERVOLLEN,=0D=0ACHARAKTERSTARKEN ALPAKAS DIE HEIDELANDSCHAFT IN IHRER SCHÖNHEIT UND=0D=0ARUHE ERKUNDET!=0D=0A=0D=0AVor Beginn der Alpakawanderung vermitteln wir euch einiges über die=0D=0AHerkunft, Besonderheiten und Eigenheiten der Alpakas. Ihr erhaltet=0D=0Aeine Sicherheitseinweisung und erfahrt, was ihr während der Wanderung=0D=0Abeachten müsst. Anschließend lernt ihr unsere Alpakas kennen.=0D=0ASelbstverständlich haben alle unsere Alpakas Namen, und jede*r ist=0D=0Aetwas Besonderes. Sobald alle Mensch-Alpaka-Paare gefunden sind,=0D=0Astarten wir zur Wanderung. Dabei habt ihr viel Zeit, euer=0D=0APartner-Alpaka kennenzulernen und werdet sicher auch viel über euch=0D=0Aselbst erfahren. Denn Alpakas sind sehr feinfühlige, neugierige=0D=0ATiere, die es vermögen, euch zu spiegeln.=0D=0A=0D=0ADie Wanderungen sind geführt und die Gruppengröße (ab 6=0D=0AMensch-Alpaka-Teams) sorgt dafür, dass sie die Alpakas wohl fühlen=0D=0Aund sich so auch auf euch einlassen möchten.=0D=0A=0D=0ANach der Wanderung könnt ihr den Nachmittag in unserem Hofcafé=0D=0Aausklingen zu lassen oder stöbert im Anschluss noch in unserem=0D=0AHofladen.=0D=0A=0D=0AAUSRÜSTUNGSEMPFEHLUNGEN / INFORMATIONEN=0D=0A=0D=0A	* stabile, wetter- und waldtaugliche Schuhe=0D=0A	* warme und wettertaugliche Kleidung (wir gehen auch bei Regen, Wind=0D=0Aoder Schnee)=0D=0A	* die Tour ist nicht für Kinderwägen geeignet (sandige Waldwege),=0D=0AKleinkinder und Babys können gerne in einer Rückentrage mitgenommen=0D=0Awerden=0D=0A	* Hunde sind bei dieser Wanderung nicht zugelassen=0D=0A	* Kinder jeden Alters können teilnehmen; es liegt generell im=0D=0AErmessen der Eltern ob das Kind eine zweistündige Wanderung im Tempo=0D=0Ader gemischter Gruppe bereits mitmachen kann.=0D=0A=0D=0A
URL;VALUE=URI:https://hamburgwhl.infomaxnet.de/standard_widget_de/e-alpakawanderung?eventDateId=30203741&widgetToken=22vcqFKw4GE.&
CLASS:PUBLIC
DTSTART:20260503T140000
DTSTAMP:20260426T045954
END:VEVENT
END:VCALENDAR