BEGIN:VCALENDAR
VERSION:2.0
PRODID:http://www.infomax-online.de/imxeventmanager/
METHOD:PUBLISH
BEGIN:VTIMEZONE
TZID:Europe/Berlin
TZURL:http://tzurl.org/zoneinfo-outlook/Europe/Berlin
X-LIC-LOCATION:Europe/Berlin
END:VTIMEZONE
BEGIN:VEVENT
UID:69eb4850e75a2
LOCATION:Schliemannstraße 2, 19055 Schwerin
SUMMARY;ENCODING=QUOTED-PRINTABLE:Bea Davies "Die Legende von Artus"
DESCRIPTION;ENCODING=QUOTED-PRINTABLE:Die wundervollen Illustrationen von Bea Davies aus dem Buch "Die=0D=0ALegende von Artus" sind bei uns in der Buchhandlung littera et cetera=0D=0Azu bestaunen.=0D=0A=0D=0ABea Davies, geboren 1990 in Italien, ist mehrfach ausgezeichnete=0D=0AIllustratorin und Comiczeichnerin. =0D=0A=0D=0AIhr erstes illustriertes Kinderbuch “Brummps” geschrieben von Dita=0D=0AZipfel erhielt die Auszeichnung “Schönste deutsche Bücher” der=0D=0AStiftung Buchkunst. =0D=0A=0D=0AIhr Graphic-Novel-Debüt “Super-Gau” erschien 2025. Für ihre=0D=0AArbeit an dem Kinderbuch “Himmelwärts” erhielt sie 2025 den=0D=0ADeutschen Jugendliteraturpreis.=0D=0A=0D=0ADie bezaubernden Illustrationen von Bea Davies aus dem Buch “Die=0D=0ALegende von Artus", neu und sehr fein erzählt von Anna Kindermann,=0D=0Aerschienen im Kindermann Verlag Berlin sind bei uns zu bestaunen.=0D=0A=0D=0AWir freuen uns sehr auf Euch!=0D=0A
URL;VALUE=URI:https://hamburgwhl.infomaxnet.de/standard_widget_de/e-bea-davies-die-legende-von-artus?eventDateId=30201476&widgetToken=22vcqFKw4GE.&
CLASS:PUBLIC
DTSTART:20260427T090000
DTSTAMP:20260424T123912
END:VEVENT
END:VCALENDAR