BEGIN:VCALENDAR
VERSION:2.0
PRODID:http://www.infomax-online.de/imxeventmanager/
METHOD:PUBLISH
BEGIN:VTIMEZONE
TZID:Europe/Berlin
TZURL:http://tzurl.org/zoneinfo-outlook/Europe/Berlin
X-LIC-LOCATION:Europe/Berlin
END:VTIMEZONE
BEGIN:VEVENT
UID:69eae296d9a02
LOCATION:Zollstraße 2 b, 21354 Bleckede
SUMMARY;ENCODING=QUOTED-PRINTABLE:KINO im TidE ROSES
DESCRIPTION;ENCODING=QUOTED-PRINTABLE:Kino im TidE=0D=0ADas rote Sofa: Cinema spezial=0D=0A=0D=0AAm 26.04 um 17 Uhr zeigen wir den ukrainischen Dokumentarfilm=0D=0A„Roses“ über die bekannte ukrainische Künstlerinnen Gruppe=0D=0A„Dakh Daughters“.=0D=0A=0D=0AFilm Cabaret Roses:=0D=0A=0D=0A»Einst waren Frauen im Cabaret nur Zierde oder Hingucker –=0D=0AZuschreibungen, mit denen die sieben Künstlerinnen der ukrainischen=0D=0ADakh Daughters nicht besonders viel anfangen können. Mit ihrer wilden=0D=0AMischung aus Punk, Perfor­mance und Politik haben sie dieser=0D=0AKunstform einen neuen Anstrich verpasst, der gerade, als die=0D=0AEreignisse rund um die Maidan-Bewegung 2014 ihr Land aufrütteln, eine=0D=0Abesondere Dimension erhält. Über den Zeitraum von fünf Jahren=0D=0Abegleitet Irena Stetsenko ihre Protagonistinnen und schafft nicht nur=0D=0Aein kurzweiliges wie tiefsinniges (und freches) Porträt, sondern=0D=0Aeinen Film über Frauen, für die ihre Kreativität längst ein Mittel=0D=0Azur Selbstverteidigung geworden ist.« (Florian Widegger ·=0D=0AÖsterreichisches Film­ar­chiv)=0D=0A=0D=0AIm Anschluss als Gast auf dem Sofa:=0D=0ADie ukrainische Musikerin und Schauspielerin Solomiia Melnyk. Mitglied=0D=0Ader Gruppe Dakh Daughters und im Februar auch auf der Bühne des TidE=0D=0Azu sehen.=0D=0AMusikalische Begleitung des Abends:=0D=0ASolomiia Melnyk und Nataliia Zozul (DakhDaughters)=0D=0AEintritt frei!=0D=0A=0D=0A
URL;VALUE=URI:https://hamburgwhl.infomaxnet.de/standard_widget_de/e-kino-im-tide-roses?eventDateId=30199946&widgetToken=22vcqFKw4GE.&
CLASS:PUBLIC
DTSTART:20260426T170000
DTSTAMP:20260424T052510
END:VEVENT
END:VCALENDAR