BEGIN:VCALENDAR
VERSION:2.0
PRODID:http://www.infomax-online.de/imxeventmanager/
METHOD:PUBLISH
BEGIN:VTIMEZONE
TZID:Europe/Berlin
TZURL:http://tzurl.org/zoneinfo-outlook/Europe/Berlin
X-LIC-LOCATION:Europe/Berlin
END:VTIMEZONE
BEGIN:VEVENT
UID:69ec1d50600d4
LOCATION:Domkirchhof 1, 23552 Lübeck
SUMMARY;ENCODING=QUOTED-PRINTABLE:Ein Tag (fast) wie in Taizé
DESCRIPTION;ENCODING=QUOTED-PRINTABLE:Ein Tag für Konfirmandinnen und Konfirmanden, für Jugendliche und=0D=0Afür Erwachsene.=0D=0A=0D=0AEinmal einen Tag lang etwas davon erleben, wie es in Taizé ist:=0D=0A=0D=0ADrei Mal am Tag gemeinsam beten.Miteinander essen.In Gesprächsgruppen=0D=0Asich austauschen.Taizélieder singen (üben).Gemeinsam praktische=0D=0AArbeit tun.=0D=0A=0D=0AAb 9.15 Uhr          Ankommen im Dom      9.30 Uhr       =0D=0A  Beginn mit einem Morgengebet      16.30 Uhr       =0D=0A Abschluss mit einem Abendgebet=0D=0A=0D=0AWir werden uns im Dom und in den Gemeinderäumen aufhalten. Bitte=0D=0Awarme Sachen mitbringen!=0D=0A=0D=0AEin Tag für Konfirmandinnen und Konfirmanden, für Jugendliche und=0D=0Afür Erwachsene.=0D=0A=0D=0AAlle, die keine Konfirmandinnen und Konfirmanden sind, melden sich=0D=0Abitte bei Pastor Klatt an - am einfachsten per Mail:=0D=0Aklatt@domzuluebeck.de   oder per Telefon: 0451 797654Wir freuen uns=0D=0A?!  Herzliche GrüßeMartin Klatt   &   Margrit Wegner=0D=0A
URL;VALUE=URI:https://hamburgwhl.infomaxnet.de/standard_widget_de/e-ein-tag-fast-wie-in-taize-2?eventDateId=30198707&widgetToken=22vcqFKw4GE.&
CLASS:PUBLIC
DTSTART:20260425T090000
DTSTAMP:20260425T034800
END:VEVENT
END:VCALENDAR