BEGIN:VCALENDAR
VERSION:2.0
PRODID:http://www.infomax-online.de/imxeventmanager/
METHOD:PUBLISH
BEGIN:VTIMEZONE
TZID:Europe/Berlin
TZURL:http://tzurl.org/zoneinfo-outlook/Europe/Berlin
X-LIC-LOCATION:Europe/Berlin
END:VTIMEZONE
BEGIN:VEVENT
UID:69ecb8a640be7
LOCATION:Elbstraße 59, 21481 Lauenburg/Elbe
SUMMARY;ENCODING=QUOTED-PRINTABLE:Lauenburger Wochenmarkt
DESCRIPTION;ENCODING=QUOTED-PRINTABLE:Regionales auf dem Lauenburger Wochenmarkt=0D=0A=0D=0AWer so richtig regional einkaufen möchte, der kommt an den Hofläden=0D=0Ain der Region Lauenburg nicht vorbei. Und wie klasse ist es, wenn die=0D=0ABetreiber dieser Hofläden 2x die Woche zum Lauenburger Wochenmarkt=0D=0Akommen. Frisches Obst und Gemüse, meist aus biologischem Anbau, dazu=0D=0AFleisch aus artgerechter Tierhaltung. Das bietet in dieser Qualität=0D=0Akaum ein Supermarkt oder Discounter.=0D=0A
URL;VALUE=URI:https://hamburgwhl.infomaxnet.de/standard_widget_de/e-lauenburger-wochenmarkt-1?eventDateId=30198283&widgetToken=22vcqFKw4GE.&
CLASS:PUBLIC
DTSTART:20260429T070000
DTSTAMP:20260425T145046
END:VEVENT
END:VCALENDAR