BEGIN:VCALENDAR
VERSION:2.0
PRODID:http://www.infomax-online.de/imxeventmanager/
METHOD:PUBLISH
BEGIN:VTIMEZONE
TZID:Europe/Berlin
TZURL:http://tzurl.org/zoneinfo-outlook/Europe/Berlin
X-LIC-LOCATION:Europe/Berlin
END:VTIMEZONE
BEGIN:VEVENT
UID:69e8787fa7315
LOCATION:Norderelbstraße 6, 20457 Hamburg
SUMMARY;ENCODING=QUOTED-PRINTABLE:Disneys Der König der Löwen - Das Musical
DESCRIPTION;ENCODING=QUOTED-PRINTABLE:Eine Veranstaltung der Reihe Disneys DER KÖNIG DER LÖWEN - Das=0D=0AMusical in Hamburg=0D=0A=0D=0AWenn sich im Stage Theater im Hafen Hamburg der Vorhang hebt und die=0D=0ASonne über der Savanne aufgeht, wird die Faszination Afrikas=0D=0Aspürbar. DISNEYS DER KÖNIG DER LÖWEN zählt zu den=0D=0Aerfolgreichsten Musicals der Welt und begeistert mit einer=0D=0Aeinzigartigen Verbindung aus Musik, Bewegung und visueller Kraft. Die=0D=0AMischung aus Popmusik von Sir Elton John mit Hits wie "Kann es=0D=0Awirklich Liebe sein" oder "Hakuna Matata" und original afrikanischen=0D=0ARhythmen prägt den unverwechselbaren Sound der Inszenierung.=0D=0AEindrucksvolle Masken, Puppen, Requisiten und aufwendige Kostüme=0D=0Amachen die Bühne zu einem lebendigen Gesamtkunstwerk.=0D=0A=0D=0AIm Mittelpunkt steht die Geschichte des Löwenkönigs Simba. Das=0D=0AMusical erzählt vom Kreislauf des Lebens, vom Erwachsenwerden, von=0D=0AVerantwortung, Liebe und der Suche nach dem eigenen Platz. DISNEYS=0D=0ADER KÖNIG DER LÖWEN verbindet emotionale Erzählung mit=0D=0Abildstarker Bühnenkunst und spricht Zuschauerinnen und Zuschauer=0D=0Aaller Generationen an.=0D=0A=0D=0ARegisseurin Julie Taymor schuf aus dem bekannten Disney-Film ein=0D=0Aeigenständiges Bühnenwerk, das international Maßstäbe gesetzt hat.=0D=0ADank ihres beeindruckenden Ideenreichtums, ihrer scheinbar=0D=0Agrenzenlosen Fantasie und dem innovativen Einsatz von Masken- und=0D=0APuppenspiel wurde die Produktion weltweit ausgezeichnet und erhielt=0D=0Aüber 70 internationale Musical-Awards.=0D=0A=0D=0AGespielt wird DISNEYS DER KÖNIG DER LÖWEN im Stage Theater im=0D=0AHafen Hamburg. Die exponierte Lage direkt am Wasser macht den=0D=0ATheaterbesuch zu einem besonderen Erlebnis. Bereits die Überfahrt mit=0D=0Aden kostenlosen Shuttle-Schiffen von den Landungsbrücken gehört zum=0D=0Afesten Bestandteil des Abends.=0D=0A
URL;VALUE=URI:https://hamburgwhl.infomaxnet.de/standard_widget_de/e-disneys-der-koenig-der-loewen-das-musical?eventDateId=30195013&widgetToken=22vcqFKw4GE.&
CLASS:PUBLIC
DTSTART:20260422T183000
DTSTAMP:20260422T092759
END:VEVENT
END:VCALENDAR