BEGIN:VCALENDAR
VERSION:2.0
PRODID:http://www.infomax-online.de/imxeventmanager/
METHOD:PUBLISH
BEGIN:VTIMEZONE
TZID:Europe/Berlin
TZURL:http://tzurl.org/zoneinfo-outlook/Europe/Berlin
X-LIC-LOCATION:Europe/Berlin
END:VTIMEZONE
BEGIN:VEVENT
UID:69e85b2ae7879
LOCATION:Nystedplatz , 23747 Dahme
SUMMARY;ENCODING=QUOTED-PRINTABLE:Open Ship auf dem Seenotrettungskreuzer
DESCRIPTION;ENCODING=QUOTED-PRINTABLE:Besuchen Sie den Seenotrettungskreuzer FELIX SAND an der Seebrücke in=0D=0ADahme.=0D=0A
URL;VALUE=URI:https://hamburgwhl.infomaxnet.de/standard_widget_de/e-open-ship-auf-dem-seenotrettungskreuzer-1?eventDateId=30191178&widgetToken=22vcqFKw4GE.&
CLASS:PUBLIC
DTSTART:20260422T160000
DTSTAMP:20260422T072250
END:VEVENT
END:VCALENDAR