BEGIN:VCALENDAR
VERSION:2.0
PRODID:http://www.infomax-online.de/imxeventmanager/
METHOD:PUBLISH
BEGIN:VTIMEZONE
TZID:Europe/Berlin
TZURL:http://tzurl.org/zoneinfo-outlook/Europe/Berlin
X-LIC-LOCATION:Europe/Berlin
END:VTIMEZONE
BEGIN:VEVENT
UID:69ed43ee5577e
LOCATION:Maurienstraße 19, 22305 Hamburg
SUMMARY;ENCODING=QUOTED-PRINTABLE:Der kleine Prinz
DESCRIPTION;ENCODING=QUOTED-PRINTABLE:“Man sieht nur mit dem Herzen gut.”=0D=0A=0D=0AEin kleiner Prinz verlässt seinen Planeten – und nimmt das junge=0D=0APublikum mit auf eine Reise durch das Weltall und mitten in Fragen,=0D=0Adie uns alle etwas angehen. Diese Bühnenfassung für Kinder ab 5=0D=0AJahren basiert auf der bekannten Geschichte, wurde aber von den=0D=0AKindern des Theaterdeck-Kurses selbst erarbeitet und bekommt dadurch=0D=0Aeine ganz eigene, frische Tonlage.=0D=0A=0D=0AGemeinsam haben sie sich mit Themen wie Freundschaft, Vertrauen und=0D=0Adem Blick aufs Wesentliche beschäftigt. Auf seiner Reise trifft der=0D=0Akleine Prinz auf seltsame Erwachsene, die oft vergessen haben, worauf=0D=0Aes wirklich ankommt. Erst auf der Erde wird ihm klar: „Man sieht nur=0D=0Amit dem Herzen gut.“ Besonders in der Begegnung mit dem Fuchs wird=0D=0Adeutlich, dass Beziehungen Zeit und Aufmerksamkeit brauchen.=0D=0A=0D=0ADie Inszenierung orientiert sich an der Vorlage von Antoine de=0D=0ASaint-Exupéry, lebt aber vor allem von den Ideen, Fragen und der=0D=0ASpielfreude der Kinder. Ein Stück, das zum Zuschauen, Mitdenken und=0D=0Amanchmal auch zum Schmunzeln einlädt – und zeigt, wie Kinder eine=0D=0Abekannte Geschichte neu erzählen.=0D=0A=0D=0APremiere am 25. April 2026 | Empfohlen ab 5 Jahren | Illustrationen:=0D=0ASanta Gustina | Gesamtleitung – Marieatta Saggau | Eine THEATERDECK=0D=0AProduktion in Kooperation mit der Theater Jugend Hamburg e.V. und dem=0D=0AAmt für Familie| Ein Theaterprojekt des SpielDECK2 Jugendensembles=0D=0A=0D=0AHinweis: Bei uns herrscht freie Platzwahl. Du suchst dir einfach=0D=0Adeinen Lieblingsplatz selbst aus.=0D=0A
URL;VALUE=URI:https://hamburgwhl.infomaxnet.de/standard_widget_de/e-der-kleine-prinz-12?eventDateId=30190887&widgetToken=22vcqFKw4GE.&
CLASS:PUBLIC
DTSTART:20260427T100000
DTSTAMP:20260426T004502
END:VEVENT
END:VCALENDAR