BEGIN:VCALENDAR
VERSION:2.0
PRODID:http://www.infomax-online.de/imxeventmanager/
METHOD:PUBLISH
BEGIN:VTIMEZONE
TZID:Europe/Berlin
TZURL:http://tzurl.org/zoneinfo-outlook/Europe/Berlin
X-LIC-LOCATION:Europe/Berlin
END:VTIMEZONE
BEGIN:VEVENT
UID:69e90315949bd
LOCATION:St. Pauli Fischmarkt 27, 20359 Hamburg
SUMMARY;ENCODING=QUOTED-PRINTABLE:Das Ohr zum Sonntag 06: Ehua
DESCRIPTION;ENCODING=QUOTED-PRINTABLE:Support: Shimmy Robin, Yamyam=0D=0A
URL;VALUE=URI:https://hamburgwhl.infomaxnet.de/standard_widget_de/e-das-ohr-zum-sonntag-06-ehua?eventDateId=30190824&widgetToken=22vcqFKw4GE.&
CLASS:PUBLIC
DTSTART:20260426T210000
DTSTAMP:20260422T191917
END:VEVENT
END:VCALENDAR