BEGIN:VCALENDAR
VERSION:2.0
PRODID:http://www.infomax-online.de/imxeventmanager/
METHOD:PUBLISH
BEGIN:VTIMEZONE
TZID:Europe/Berlin
TZURL:http://tzurl.org/zoneinfo-outlook/Europe/Berlin
X-LIC-LOCATION:Europe/Berlin
END:VTIMEZONE
BEGIN:VEVENT
UID:69e8cf2026431
LOCATION:St. Pauli Fischmarkt 27, 20359 Hamburg
SUMMARY;ENCODING=QUOTED-PRINTABLE:ELM STREET mit Imogen
DESCRIPTION;ENCODING=QUOTED-PRINTABLE:DJ SOURCE b2b UNZHA, IMOGEN b2b MELL G, ONLYLU=0D=0A
URL;VALUE=URI:https://hamburgwhl.infomaxnet.de/standard_widget_de/e-elm-street-mit-imogen?eventDateId=30190712&widgetToken=22vcqFKw4GE.&
CLASS:PUBLIC
DTSTART:20260423T220000
DTSTAMP:20260422T153736
END:VEVENT
END:VCALENDAR