BEGIN:VCALENDAR
VERSION:2.0
PRODID:http://www.infomax-online.de/imxeventmanager/
METHOD:PUBLISH
BEGIN:VTIMEZONE
TZID:Europe/Berlin
TZURL:http://tzurl.org/zoneinfo-outlook/Europe/Berlin
X-LIC-LOCATION:Europe/Berlin
END:VTIMEZONE
BEGIN:VEVENT
UID:69ec09e7da163
LOCATION:Johannes-Brahms-Platz , 20355 Hamburg
SUMMARY;ENCODING=QUOTED-PRINTABLE:Alina Bock
DESCRIPTION;ENCODING=QUOTED-PRINTABLE:In Deutschland aufgewachsen, in Los Angeles lebend: Alina Bock.=0D=0AFrüher Teil der mit Platin- und mehrfach Goldenen Schallplatten=0D=0Aausgezeichneten Popband »beFour«, ist sie heute Schauspielerin (u.a.=0D=0Ain dem Kinofilm »Mark, Mary and Some Other People« oder in der=0D=0AFOX-Produktion »Magic Carpet Rides«), Autorin und vor allem=0D=0AComedienne.=0D=0A=0D=0ANach ihrem Umzug nach Los Angeles im Jahr 2012, konzentrierte sich=0D=0AAlina Bock voll auf ihre Comedy-Karriere. Sie schrieb Comedy-Shows,=0D=0Atrainierte und performte in den heiligen vier Comedy-Wänden von »The=0D=0AGroundings«. Zudem trat sie unter anderem im »Upright Citizens=0D=0ABrigade Theatre«, einem weltbekannten Comedy-Theater mit Liveshows an=0D=0Asieben Abenden in der Woche, sowie im renommierten »iO West« in L.A.=0D=0Aauf.=0D=0A=0D=0ASeit dem 2024 stellt Alina Bock ihr komisches Talent mit ihrem neuen=0D=0AProgramm »Vom Dorf nach Hollywood« in Deutschland unter Beweis.=0D=0ANachdem Alina Bock auf sämtlichen Bühnen der Republik aufgetreten=0D=0Aist, kommt die Künstlerin nun ein allerletztes Mal nach Hamburg,=0D=0AHannover, Stuttgart und Düsseldorf. In ihrer One-Woman-Comedy-Show=0D=0Abringt Alina ihre vielen Charaktere live auf die Bühne. Von ihren=0D=0Abeliebtesten Instagram-Persönlichkeiten bis hin zu völlig neuen=0D=0ACharakteren wird das Publikum mitgenommen, auf eine Reise »vom Dorf=0D=0Anach Hollywood«.=0D=0A=0D=0ABESETZUNG=0D=0A=0D=0AALINA BOCK Comedienne=0D=0A=0D=0APROGRAMM=0D=0A=0D=0A»Vom Dorf nach Hollywood«=0D=0A=0D=0A =0D=0A
URL;VALUE=URI:https://hamburgwhl.infomaxnet.de/standard_widget_de/e-alina-bock?eventDateId=30190487&widgetToken=22vcqFKw4GE.&
CLASS:PUBLIC
DTSTART:20260429T200000
DTSTAMP:20260425T022511
END:VEVENT
END:VCALENDAR