BEGIN:VCALENDAR
VERSION:2.0
PRODID:http://www.infomax-online.de/imxeventmanager/
METHOD:PUBLISH
BEGIN:VTIMEZONE
TZID:Europe/Berlin
TZURL:http://tzurl.org/zoneinfo-outlook/Europe/Berlin
X-LIC-LOCATION:Europe/Berlin
END:VTIMEZONE
BEGIN:VEVENT
UID:69ed80b65b918
LOCATION:Bahnhofstraße 13, 22926 Ahrensburg
SUMMARY;ENCODING=QUOTED-PRINTABLE:Anradeltour zum Hamfelder Mühlenkaffee
DESCRIPTION;ENCODING=QUOTED-PRINTABLE:Anradeltour mit der Ahrensburger Ortsgruppe des ADFC Stormarn e.V.=0D=0A=0D=0ADie Ahrensburger Ortsgruppe des ADFC-Stormarn e. V.  bietet am=0D=0ASonntag eine Fahrradtour zum Hamfelder Mühlenkaffee an. Es geht über=0D=0AStapelfeldt, Stellau und Stemwarde nach Hamfelde.=0D=0A=0D=0APausen werden eingelegt, die Einkehr ins Café ist geplant. Zurück=0D=0Ageht es über Trittau wieder nach Ahrensburg.=0D=0A=0D=0ASiehe auch=0D=0Ahttps://touren-termine.adfc.de/radveranstaltung/186191-anradeltour-zum-hamfelder-muhlenkaffee=0D=0A=0D=0ALeitung:               Stefan Lau=0D=0AHinweis:              Rad- und Nebenwege, Straßen,=0D=0AWaldwege=0D=0ALänge:                  ca. 55 km=0D=0AKategorie:          ** Durchschnittsgeschwindigkeit ca.  16=0D=0A– 19 km/h=0D=0AStart und Ziel:    Bahnhof Ahrensburg (Taxistand) Bahnhofstraße=0D=0A
URL;VALUE=URI:https://hamburgwhl.infomaxnet.de/standard_widget_de/e-anradeltour-zum-hamfelder-muehlenkaffee?eventDateId=30189462&widgetToken=22vcqFKw4GE.&
CLASS:PUBLIC
DTSTART:20260426T100000
DTSTAMP:20260426T050422
END:VEVENT
END:VCALENDAR