BEGIN:VCALENDAR
VERSION:2.0
PRODID:http://www.infomax-online.de/imxeventmanager/
METHOD:PUBLISH
BEGIN:VTIMEZONE
TZID:Europe/Berlin
TZURL:http://tzurl.org/zoneinfo-outlook/Europe/Berlin
X-LIC-LOCATION:Europe/Berlin
END:VTIMEZONE
BEGIN:VEVENT
UID:69e9472bbfc46
LOCATION:Kurpromenade , 23669 Timmendorfer Strand
SUMMARY;ENCODING=QUOTED-PRINTABLE:Tanz in den Mai
DESCRIPTION;ENCODING=QUOTED-PRINTABLE:#Tanz in den Mai=0D=0A=0D=0A =0D=0A=0D=0AFeiert mit uns in den Mai bei leckeren Cocktails und anderen=0D=0Aspritzigen Getränken. Für Musik sorgt an den Abend bis in den 01.=0D=0AMai DJ René Kleinschmidt.=0D=0A=0D=0A =0D=0A
URL;VALUE=URI:https://hamburgwhl.infomaxnet.de/standard_widget_de/e-tanz-in-den-mai-32?eventDateId=30189311&widgetToken=22vcqFKw4GE.&
CLASS:PUBLIC
DTSTART:20260424T190000
DTSTAMP:20260423T000947
END:VEVENT
END:VCALENDAR