BEGIN:VCALENDAR
VERSION:2.0
PRODID:http://www.infomax-online.de/imxeventmanager/
METHOD:PUBLISH
BEGIN:VTIMEZONE
TZID:Europe/Berlin
TZURL:http://tzurl.org/zoneinfo-outlook/Europe/Berlin
X-LIC-LOCATION:Europe/Berlin
END:VTIMEZONE
BEGIN:VEVENT
UID:69e7bc720b4ce
LOCATION:Manfred-Samusch-Straße 9, 22926 Ahrensburg
SUMMARY;ENCODING=QUOTED-PRINTABLE:Spielenachmittag - Ahrensburg spielt
DESCRIPTION;ENCODING=QUOTED-PRINTABLE:Wir sind eine Gruppe von Spielebegeisterten Personen gemischten Alters=0D=0A(von 12 bis 73 Jahre). Das Spieler-Spektrum reicht von=0D=0AGelegenheitsspielern über Familienspieler bis zu Vielspielern.=0D=0AEntsprechend findet jeder eine Gruppe, die für Spielvorschläge aller=0D=0AArt offen ist. Mehr Informationen: www.ahrensburg-spielt.de=0D=0A=0D=0A =0D=0A
URL;VALUE=URI:https://hamburgwhl.infomaxnet.de/standard_widget_de/e-spielenachmittag-ahrensburg-spielt?eventDateId=30189296&widgetToken=22vcqFKw4GE.&
CLASS:PUBLIC
DTSTART:20260423T130000
DTSTAMP:20260421T200538
END:VEVENT
END:VCALENDAR